BEGIN:VCALENDAR
VERSION:2.0
PRODID:-//Formação em Euritmia - ECPv6.4.0//NONSGML v1.0//EN
CALSCALE:GREGORIAN
METHOD:PUBLISH
X-ORIGINAL-URL:https://euritmiane.com.br
X-WR-CALDESC:Eventos para Formação em Euritmia
REFRESH-INTERVAL;VALUE=DURATION:PT1H
X-Robots-Tag:noindex
X-PUBLISHED-TTL:PT1H
BEGIN:VTIMEZONE
TZID:America/Fortaleza
BEGIN:STANDARD
TZOFFSETFROM:-0300
TZOFFSETTO:-0300
TZNAME:-03
DTSTART:20230101T000000
END:STANDARD
END:VTIMEZONE
BEGIN:VEVENT
DTSTART;TZID=America/Fortaleza:20230831T140000
DTEND;TZID=America/Fortaleza:20230901T170000
DTSTAMP:20260425T095442
CREATED:20230719T135022Z
LAST-MODIFIED:20230719T135817Z
UID:315-1693490400-1693587600@euritmiane.com.br
SUMMARY:Curso: A realidade da Música - com Marcelo Petraglia - PRESENCIAL
DESCRIPTION:Curso: A realidade da Música – uma filosofia do tempo\, do espaço e do movimento fundamentada no fenômeno da música\, com Marcelo Petraglia – PRESENCIAL \nSobre Marcelo: Marcelo dedica-se à composição\, criação de instrumentos\, pesquisa e docência\, tendo como interesse de seus estudos os fenômenos musicais\, sonoros e vibratórios e sua relação com o ser humano e o meio ambiente. Busca em seu trabalho novas possibilidades e significados para o fazer musical e a interação social. \nCriou em 1994 a empresa OuvirAtivo\, para pesquisa e produção de instrumentos musicais\, onde também desenvolveu intenso trabalho de oficinas sobre diversos temas relacionados à música e à educação musical. \nCom muita alegria recebemos em Fortaleza o professor Marcelo Petraglia pra este curso! Você não pode perder! \nAs vagas são limitadas! \n  \nDatas: 31/08 e 01/09 \nHorário: 14h às 17h \nCarga horária: 6h \n  \nMaiores informações através do Whatsapp: (85) 9 9264-4253
URL:https://euritmiane.com.br/espetaculo/curso-a-realidade-da-musica-com-marcelo-petraglia-presencial/
LOCATION:Escola Waldorf Micael Fortaleza – sede Luciano Cavalcante\, Rua Ayrton Borges Martins\, 233 - Luciano Cavalcante\, Fortaleza\, CE\, 60813-580\, Brasil
CATEGORIES:Turnê Nordeste 2023
ATTACH;FMTTYPE=image/jpeg:https://euritmiane.com.br/wp-content/uploads/2023/07/Folder-Curso-MP-e1689775036776.jpg
ORGANIZER;CN="ADEANT":MAILTO:contato@euritmiane.com.br
END:VEVENT
BEGIN:VEVENT
DTSTART;TZID=America/Fortaleza:20230901T150000
DTEND;TZID=America/Fortaleza:20230901T160000
DTSTAMP:20260425T095442
CREATED:20230718T005752Z
LAST-MODIFIED:20230718T012935Z
UID:18-1693580400-1693584000@euritmiane.com.br
SUMMARY:A Rixa das Bruxas
DESCRIPTION:A Rixa das Bruxas – ou o menino que queria voar. \nUm olhar sobre a trajetória existencial de Santos Dumont\, aqui transformada numa narrativa rica em imagens para as crianças\, na historia de um menino que anseia por alçar voos altos\, como os de sua pipa\, e se depara com os desafios impostos por duas bruxas que o querem atrapalhar. \nEm formato de Conto de Fadas\, esta produção trata o tema de forma lúdica e imaginativa\, tornando-o profundo e encantador para o público infantil e para toda a família. \nCom texto poético inédito de Dino Bernardi e Ana Luiza Gentil\, composição musical de Marcelo S. Petraglia para fagote e percussão\, tocada ao vivo. \nClassificação: Livre\nDuração: 50 minutos
URL:https://euritmiane.com.br/espetaculo/a-rixa-das-bruxas/
LOCATION:Teatro Celina Queiroz\, Av. Washington Soares\, 1321 (UNIFOR)\, Fortaleza\, Ceará\, 60811-905\, Brasil
CATEGORIES:Turnê Nordeste 2023
ATTACH;FMTTYPE=image/png:https://euritmiane.com.br/wp-content/uploads/2023/07/Bruxas-e1689774961623.png
ORGANIZER;CN="ADEANT":MAILTO:contato@euritmiane.com.br
END:VEVENT
END:VCALENDAR